BEGIN:VCALENDAR
VERSION:2.0
PRODID:-//Synergy Dance Studio - ECPv6.15.20//NONSGML v1.0//EN
CALSCALE:GREGORIAN
METHOD:PUBLISH
X-WR-CALNAME:Synergy Dance Studio
X-ORIGINAL-URL:https://synergydanceproject.com
X-WR-CALDESC:Events for Synergy Dance Studio
REFRESH-INTERVAL;VALUE=DURATION:PT1H
X-Robots-Tag:noindex
X-PUBLISHED-TTL:PT1H
BEGIN:VTIMEZONE
TZID:UTC
BEGIN:STANDARD
TZOFFSETFROM:+0000
TZOFFSETTO:+0000
TZNAME:UTC
DTSTART:20240101T000000
END:STANDARD
END:VTIMEZONE
BEGIN:VEVENT
DTSTART;TZID=UTC:20250710T163000
DTEND;TZID=UTC:20250710T171500
DTSTAMP:20260423T232840
CREATED:20250429T010439Z
LAST-MODIFIED:20250429T010439Z
UID:46452-1752165000-1752167700@synergydanceproject.com
SUMMARY:Beginner Jazz and Ballet with Tatyana and/or Kate
DESCRIPTION:Dancers will be introduced to entry-level jazz and ballet movement. Dancers will warm up\, move across the floor\, and learn combos from the skills learned in class.
URL:https://synergydanceproject.com/event/beginner-jazz-and-ballet-with-tatyana-and-or-kate-2/
LOCATION:Synergy Dance Project\, 1060 MN-15\, Unit 68\, Hutchinson\, MN\, 55350\, United States
CATEGORIES:Ballet,Jazz
END:VEVENT
BEGIN:VEVENT
DTSTART;TZID=UTC:20250709T181500
DTEND;TZID=UTC:20250709T191500
DTSTAMP:20260423T232840
CREATED:20250428T010449Z
LAST-MODIFIED:20250429T010018Z
UID:46396-1752084900-1752088500@synergydanceproject.com
SUMMARY:Ballet with Kate
DESCRIPTION:Learn the specifics of Classical/Cecchetti Ballet. Dancers will begin with barre\, work on skills in center\, move across the floor\, and end with a cool down. Dancers will be introduced to ballet vocabulary and the history of ballet.
URL:https://synergydanceproject.com/event/ballet-with-kate/
LOCATION:Synergy Dance Project\, 1060 MN-15\, Unit 68\, Hutchinson\, MN\, 55350\, United States
CATEGORIES:Ballet
END:VEVENT
BEGIN:VEVENT
DTSTART;TZID=UTC:20250709T171500
DTEND;TZID=UTC:20250709T181500
DTSTAMP:20260423T232840
CREATED:20250428T011251Z
LAST-MODIFIED:20250429T005825Z
UID:46405-1752081300-1752084900@synergydanceproject.com
SUMMARY:Hip Hop with Tailyn
DESCRIPTION:Learn the specifics of Hip Hop. Incline torso\, bent knees\, rocks\, grooves\, improvisation\, articulations\, etc. Dancers will warm up\, work on skills in center\, musicality training\, learn a combo\, and end with a cool down.
URL:https://synergydanceproject.com/event/hip-hop-with-tailyn/
LOCATION:Synergy Dance Project\, 1060 MN-15\, Unit 68\, Hutchinson\, MN\, 55350\, United States
CATEGORIES:Hip Hop
END:VEVENT
BEGIN:VEVENT
DTSTART;TZID=UTC:20250709T163000
DTEND;TZID=UTC:20250709T171500
DTSTAMP:20260423T232840
CREATED:20250428T005816Z
LAST-MODIFIED:20250429T004750Z
UID:46391-1752078600-1752081300@synergydanceproject.com
SUMMARY:Pre-K with Tatyana
DESCRIPTION:Dancers will be introduced to entry-level movement. Dancers will warm up\, learn basic techniques and terminology\, and end with a game related to the movement learned in class. This is a way for preschool dancers to express themselves and have fun!
URL:https://synergydanceproject.com/event/pre-k-with-tatyana-2/
LOCATION:Synergy Dance Project\, 1060 MN-15\, Unit 68\, Hutchinson\, MN\, 55350\, United States
CATEGORIES:Pre-K Classes
END:VEVENT
BEGIN:VEVENT
DTSTART;TZID=UTC:20250708T181500
DTEND;TZID=UTC:20250708T191500
DTSTAMP:20260423T232840
CREATED:20250428T011035Z
LAST-MODIFIED:20250429T005629Z
UID:46402-1751998500-1752002100@synergydanceproject.com
SUMMARY:Jazz with Tatyana and Tailyn
DESCRIPTION:Learn the specifics of modern-day Jazz. Sharp movement\, intricate movement\, turns\, leg extensions\, etc. Dancers will warm up\, work on skills in center\, move across the floor\, learn a combo\, and end with a cool down.
URL:https://synergydanceproject.com/event/jazz-with-tatyana-and-tailyn-2/
LOCATION:Synergy Dance Project\, 1060 MN-15\, Unit 68\, Hutchinson\, MN\, 55350\, United States
CATEGORIES:Jazz
END:VEVENT
BEGIN:VEVENT
DTSTART;TZID=UTC:20250708T171500
DTEND;TZID=UTC:20250708T181500
DTSTAMP:20260423T232840
CREATED:20250428T011930Z
LAST-MODIFIED:20250429T005725Z
UID:46412-1751994900-1751998500@synergydanceproject.com
SUMMARY:Contemporary with Tatyana
DESCRIPTION:Learn the specifics of Contemporary. Manipulation of the torso\, floor work\, fluid movement\, articulations\, etc. Dancers will warm-up\, move across the floor\, learn a combo\, improv\, and end with a cool down.
URL:https://synergydanceproject.com/event/contemporary-with-tatyana-2/
LOCATION:Synergy Dance Project\, 1060 MN-15\, Unit 68\, Hutchinson\, MN\, 55350\, United States
CATEGORIES:Contemporary
END:VEVENT
BEGIN:VEVENT
DTSTART;TZID=UTC:20250708T163000
DTEND;TZID=UTC:20250708T171500
DTSTAMP:20260423T232840
CREATED:20250429T010341Z
LAST-MODIFIED:20250429T010341Z
UID:46450-1751992200-1751994900@synergydanceproject.com
SUMMARY:Beginner Jazz and Ballet with Tatyana and/or Kate
DESCRIPTION:Dancers will be introduced to entry-level jazz and ballet movement. Dancers will warm up\, move across the floor\, and learn combos from the skills learned in class.
URL:https://synergydanceproject.com/event/beginner-jazz-and-ballet-with-tatyana-and-or-kate/
LOCATION:Synergy Dance Project\, 1060 MN-15\, Unit 68\, Hutchinson\, MN\, 55350\, United States
CATEGORIES:Ballet,Jazz
END:VEVENT
BEGIN:VEVENT
DTSTART;TZID=UTC:20250707T181500
DTEND;TZID=UTC:20250707T191500
DTSTAMP:20260423T232840
CREATED:20250428T010845Z
LAST-MODIFIED:20250429T005428Z
UID:46400-1751912100-1751915700@synergydanceproject.com
SUMMARY:Jazz with Tatyana and Tailyn
DESCRIPTION:Learn the specifics of modern-day Jazz. Sharp movement\, intricate movement\, turns\, leg extensions\, etc. Dancers will warm up\, work on skills in center\, move across the floor\, learn a combo\, and end with a cool down.
URL:https://synergydanceproject.com/event/jazz-with-tatyana-and-tailyn/
LOCATION:Synergy Dance Project\, 1060 MN-15\, Unit 68\, Hutchinson\, MN\, 55350\, United States
CATEGORIES:Jazz
END:VEVENT
BEGIN:VEVENT
DTSTART;TZID=UTC:20250707T171500
DTEND;TZID=UTC:20250707T181500
DTSTAMP:20260423T232840
CREATED:20250428T011753Z
LAST-MODIFIED:20250429T004959Z
UID:46410-1751908500-1751912100@synergydanceproject.com
SUMMARY:Contemporary with Tatyana
DESCRIPTION:Learn the specifics of Contemporary. Manipulation of the torso\, floor work\, fluid movement\, articulations\, etc. Dancers will warm-up\, move across the floor\, learn a combo\, improv\, and end with a cool down.
URL:https://synergydanceproject.com/event/contemporary-with-tatyana/
LOCATION:Synergy Dance Project\, 1060 MN-15\, Unit 68\, Hutchinson\, MN\, 55350\, United States
CATEGORIES:Contemporary
END:VEVENT
BEGIN:VEVENT
DTSTART;TZID=UTC:20250707T163000
DTEND;TZID=UTC:20250707T171500
DTSTAMP:20260423T232840
CREATED:20250428T004612Z
LAST-MODIFIED:20250429T004636Z
UID:46386-1751905800-1751908500@synergydanceproject.com
SUMMARY:Pre-K with Tatyana
DESCRIPTION:Dancers will be introduced to entry-level movement. Dancers will warm up\, learn basic techniques and terminology\, and end with a game related to the movement learned in class. This is a way for preschool dancers to express themselves and have fun!
URL:https://synergydanceproject.com/event/pre-k-with-tatyana/
LOCATION:Synergy Dance Project\, 1060 MN-15\, Unit 68\, Hutchinson\, MN\, 55350\, United States
CATEGORIES:Pre-K Classes
END:VEVENT
BEGIN:VEVENT
DTSTART;TZID=UTC:20250624T150000
DTEND;TZID=UTC:20250624T190000
DTSTAMP:20260423T232840
CREATED:20250428T012520Z
LAST-MODIFIED:20250428T020142Z
UID:46416-1750777200-1750791600@synergydanceproject.com
SUMMARY:2025 - 2026 Season Registration
DESCRIPTION:Synergy Dance Project 2025 – 2026 Season Registration
URL:https://synergydanceproject.com/event/registration-2/
LOCATION:Synergy Dance Project\, 1060 MN-15\, Unit 68\, Hutchinson\, MN\, 55350\, United States
CATEGORIES:Registration Days
END:VEVENT
BEGIN:VEVENT
DTSTART;TZID=UTC:20250616T150000
DTEND;TZID=UTC:20250616T190000
DTSTAMP:20260423T232840
CREATED:20250428T012405Z
LAST-MODIFIED:20250428T015807Z
UID:46414-1750086000-1750100400@synergydanceproject.com
SUMMARY:2025 - 2026 Season Registration
DESCRIPTION:Synergy Dance Project 2025 – 2026 Season Registration
URL:https://synergydanceproject.com/event/registration/
LOCATION:Synergy Dance Project\, 1060 MN-15\, Unit 68\, Hutchinson\, MN\, 55350\, United States
CATEGORIES:Registration Days
END:VEVENT
END:VCALENDAR