BEGIN:VCALENDAR
VERSION:2.0
PRODID:-//Synergy Dance Studio - ECPv6.15.20//NONSGML v1.0//EN
CALSCALE:GREGORIAN
METHOD:PUBLISH
X-ORIGINAL-URL:https://synergydanceproject.com
X-WR-CALDESC:Events for Synergy Dance Studio
REFRESH-INTERVAL;VALUE=DURATION:PT1H
X-Robots-Tag:noindex
X-PUBLISHED-TTL:PT1H
BEGIN:VTIMEZONE
TZID:UTC
BEGIN:STANDARD
TZOFFSETFROM:+0000
TZOFFSETTO:+0000
TZNAME:UTC
DTSTART:20250101T000000
END:STANDARD
END:VTIMEZONE
BEGIN:VEVENT
DTSTART;VALUE=DATE:20260320
DTEND;VALUE=DATE:20260323
DTSTAMP:20260424T001707
CREATED:20251230T144222Z
LAST-MODIFIED:20251230T144248Z
UID:46529-1773964800-1774223999@synergydanceproject.com
SUMMARY:Turn It Up Dance Challenge
DESCRIPTION:
URL:https://synergydanceproject.com/event/turn-it-up-dance-challenge/
LOCATION:Watertown-Mayer High School\, 1001 MN-25\, Watertown\, MN\, 55388\, United States
CATEGORIES:Competition
END:VEVENT
BEGIN:VEVENT
DTSTART;VALUE=DATE:20260328
DTEND;VALUE=DATE:20260329
DTSTAMP:20260424T001707
CREATED:20251230T144348Z
LAST-MODIFIED:20251230T144348Z
UID:46532-1774656000-1774742399@synergydanceproject.com
SUMMARY:Tim Orth Memorial Foundation
DESCRIPTION:
URL:https://synergydanceproject.com/event/tim-orth-memorial-foundation/
LOCATION:MN
CATEGORIES:Competition
END:VEVENT
BEGIN:VEVENT
DTSTART;VALUE=DATE:20260410
DTEND;VALUE=DATE:20260413
DTSTAMP:20260424T001707
CREATED:20251230T144518Z
LAST-MODIFIED:20251230T144518Z
UID:46534-1775779200-1776038399@synergydanceproject.com
SUMMARY:Epic Dance Competition
DESCRIPTION:
URL:https://synergydanceproject.com/event/epic-dance-competition/
LOCATION:Monticello High School\, 5225 School Blvd\, Monticello\, MN\, 55362\, United States
CATEGORIES:Competition
END:VEVENT
BEGIN:VEVENT
DTSTART;VALUE=DATE:20260501
DTEND;VALUE=DATE:20260503
DTSTAMP:20260424T001707
CREATED:20251230T144832Z
LAST-MODIFIED:20251230T144832Z
UID:46537-1777593600-1777766399@synergydanceproject.com
SUMMARY:Cathedral Dance Festival
DESCRIPTION:
URL:https://synergydanceproject.com/event/cathedral-dance-festival/
LOCATION:Southwest Christian High School\, 1981 Bavaria Rd\, Chaska\, MN\, 55318\, United States
CATEGORIES:Competition
END:VEVENT
BEGIN:VEVENT
DTSTART;VALUE=DATE:20260509
DTEND;VALUE=DATE:20260510
DTSTAMP:20260424T001707
CREATED:20251230T144931Z
LAST-MODIFIED:20251230T144931Z
UID:46540-1778284800-1778371199@synergydanceproject.com
SUMMARY:Synergy Dance Project Dance Concert
DESCRIPTION:
URL:https://synergydanceproject.com/event/synergy-dance-project-dance-concert/
LOCATION:Synergy Dance Project\, 1060 MN-15\, Unit 68\, Hutchinson\, MN\, 55350\, United States
CATEGORIES:Concert
ORGANIZER;CN="Tatyana Beerbower":MAILTO:tatyana@synergydanceproject.com
END:VEVENT
END:VCALENDAR