BEGIN:VCALENDAR
VERSION:2.0
PRODID:-//Synergy Dance Studio - ECPv6.15.20//NONSGML v1.0//EN
CALSCALE:GREGORIAN
METHOD:PUBLISH
X-ORIGINAL-URL:https://synergydanceproject.com
X-WR-CALDESC:Events for Synergy Dance Studio
REFRESH-INTERVAL;VALUE=DURATION:PT1H
X-Robots-Tag:noindex
X-PUBLISHED-TTL:PT1H
BEGIN:VTIMEZONE
TZID:UTC
BEGIN:STANDARD
TZOFFSETFROM:+0000
TZOFFSETTO:+0000
TZNAME:UTC
DTSTART:20250101T000000
END:STANDARD
END:VTIMEZONE
BEGIN:VEVENT
DTSTART;VALUE=DATE:20260219
DTEND;VALUE=DATE:20260223
DTSTAMP:20260423T225127
CREATED:20251230T143957Z
LAST-MODIFIED:20251230T143957Z
UID:46527-1771459200-1771804799@synergydanceproject.com
SUMMARY:Starz Dance Competition
DESCRIPTION:
URL:https://synergydanceproject.com/event/starz-dance-competition/
LOCATION:Monticello High School\, 5225 School Blvd\, Monticello\, MN\, 55362\, United States
CATEGORIES:Competition
END:VEVENT
END:VCALENDAR