BEGIN:VCALENDAR
VERSION:2.0
PRODID:-//Synergy Dance Studio - ECPv6.15.20//NONSGML v1.0//EN
CALSCALE:GREGORIAN
METHOD:PUBLISH
X-ORIGINAL-URL:https://synergydanceproject.com
X-WR-CALDESC:Events for Synergy Dance Studio
REFRESH-INTERVAL;VALUE=DURATION:PT1H
X-Robots-Tag:noindex
X-PUBLISHED-TTL:PT1H
BEGIN:VTIMEZONE
TZID:UTC
BEGIN:STANDARD
TZOFFSETFROM:+0000
TZOFFSETTO:+0000
TZNAME:UTC
DTSTART:20250101T000000
END:STANDARD
END:VTIMEZONE
BEGIN:VEVENT
DTSTART;TZID=UTC:20260123T183000
DTEND;TZID=UTC:20260123T193000
DTSTAMP:20260424T003348
CREATED:20251230T143749Z
LAST-MODIFIED:20251230T143749Z
UID:46525-1769193000-1769196600@synergydanceproject.com
SUMMARY:Teen & Adult Ballet Pop-Up Class (Ages 13+)
DESCRIPTION:Join Miss Kate for a pop-up ballet class! Class will begin at the ballet barre with basic ballet exercises before learning a new ballet routine. Anyone is welcome. Little to no dance experience is needed! Dress code: anything you feel comfortable moving in. Many people enjoy dressing up in tights\, leotards\, skirts\, or shorts. Dance shoes or socks are recommended.
URL:https://synergydanceproject.com/event/teen-adult-ballet-pop-up-class-ages-13/
LOCATION:Synergy Dance Project\, 1060 MN-15\, Unit 68\, Hutchinson\, MN\, 55350\, United States
CATEGORIES:Ballet
ORGANIZER;CN="Tatyana Beerbower":MAILTO:tatyana@synergydanceproject.com
END:VEVENT
END:VCALENDAR