BEGIN:VCALENDAR
VERSION:2.0
PRODID:-//Synergy Dance Studio - ECPv6.15.20//NONSGML v1.0//EN
CALSCALE:GREGORIAN
METHOD:PUBLISH
X-WR-CALNAME:Synergy Dance Studio
X-ORIGINAL-URL:https://synergydanceproject.com
X-WR-CALDESC:Events for Synergy Dance Studio
REFRESH-INTERVAL;VALUE=DURATION:PT1H
X-Robots-Tag:noindex
X-PUBLISHED-TTL:PT1H
BEGIN:VTIMEZONE
TZID:UTC
BEGIN:STANDARD
TZOFFSETFROM:+0000
TZOFFSETTO:+0000
TZNAME:UTC
DTSTART:20250101T000000
END:STANDARD
END:VTIMEZONE
BEGIN:VEVENT
DTSTART;TZID=UTC:20260116T180000
DTEND;TZID=UTC:20260116T190000
DTSTAMP:20260423T193329
CREATED:20251230T143537Z
LAST-MODIFIED:20251230T143537Z
UID:46520-1768586400-1768590000@synergydanceproject.com
SUMMARY:Int/Adv Hip Hop Pop-Up Class (grades 6th-12th)
DESCRIPTION:This class features a warm up\, intermediate/advanced technique\, and a choreographed combination. This class emphasizes musicality\, precision\, and confidence through music. Dress Code:  Moveable clothing and an extra pair of shoes to change into.  
URL:https://synergydanceproject.com/event/int-adv-hip-hop-pop-up-class-grades-6th-12th/
LOCATION:Synergy Dance Project\, 1060 MN-15\, Unit 68\, Hutchinson\, MN\, 55350\, United States
CATEGORIES:Hip Hop
ORGANIZER;CN="Tatyana Beerbower":MAILTO:tatyana@synergydanceproject.com
END:VEVENT
BEGIN:VEVENT
DTSTART;TZID=UTC:20260116T190000
DTEND;TZID=UTC:20260116T200000
DTSTAMP:20260423T193329
CREATED:20251230T143650Z
LAST-MODIFIED:20251230T143650Z
UID:46523-1768590000-1768593600@synergydanceproject.com
SUMMARY:Int/Adv Contemporary Pop-Up Class (grades 6th-12th)
DESCRIPTION:Dancers will warm up\, learn the foundations of Contemporary dance by moving across the floor and working on skills in center. Dancers will learn a movement phrase that combines the idea of dynamics\, music phrasing\, and emotional expression. Dancers will end with a cool down. Dress Code: Comfortable/moveable clothing.
URL:https://synergydanceproject.com/event/int-adv-contemporary-pop-up-class-grades-6th-12th/
LOCATION:Synergy Dance Project\, 1060 MN-15\, Unit 68\, Hutchinson\, MN\, 55350\, United States
CATEGORIES:Contemporary
ORGANIZER;CN="Tatyana Beerbower":MAILTO:tatyana@synergydanceproject.com
END:VEVENT
END:VCALENDAR