BEGIN:VCALENDAR
VERSION:2.0
PRODID:-//Synergy Dance Studio - ECPv6.15.20//NONSGML v1.0//EN
CALSCALE:GREGORIAN
METHOD:PUBLISH
X-ORIGINAL-URL:https://synergydanceproject.com
X-WR-CALDESC:Events for Synergy Dance Studio
REFRESH-INTERVAL;VALUE=DURATION:PT1H
X-Robots-Tag:noindex
X-PUBLISHED-TTL:PT1H
BEGIN:VTIMEZONE
TZID:UTC
BEGIN:STANDARD
TZOFFSETFROM:+0000
TZOFFSETTO:+0000
TZNAME:UTC
DTSTART:20240101T000000
END:STANDARD
END:VTIMEZONE
BEGIN:VEVENT
DTSTART;TZID=UTC:20250709T163000
DTEND;TZID=UTC:20250709T171500
DTSTAMP:20260424T053348
CREATED:20250428T005816Z
LAST-MODIFIED:20250429T004750Z
UID:46391-1752078600-1752081300@synergydanceproject.com
SUMMARY:Pre-K with Tatyana
DESCRIPTION:Dancers will be introduced to entry-level movement. Dancers will warm up\, learn basic techniques and terminology\, and end with a game related to the movement learned in class. This is a way for preschool dancers to express themselves and have fun!
URL:https://synergydanceproject.com/event/pre-k-with-tatyana-2/
LOCATION:Synergy Dance Project\, 1060 MN-15\, Unit 68\, Hutchinson\, MN\, 55350\, United States
CATEGORIES:Pre-K Classes
END:VEVENT
BEGIN:VEVENT
DTSTART;TZID=UTC:20250709T171500
DTEND;TZID=UTC:20250709T181500
DTSTAMP:20260424T053348
CREATED:20250428T011251Z
LAST-MODIFIED:20250429T005825Z
UID:46405-1752081300-1752084900@synergydanceproject.com
SUMMARY:Hip Hop with Tailyn
DESCRIPTION:Learn the specifics of Hip Hop. Incline torso\, bent knees\, rocks\, grooves\, improvisation\, articulations\, etc. Dancers will warm up\, work on skills in center\, musicality training\, learn a combo\, and end with a cool down.
URL:https://synergydanceproject.com/event/hip-hop-with-tailyn/
LOCATION:Synergy Dance Project\, 1060 MN-15\, Unit 68\, Hutchinson\, MN\, 55350\, United States
CATEGORIES:Hip Hop
END:VEVENT
BEGIN:VEVENT
DTSTART;TZID=UTC:20250709T181500
DTEND;TZID=UTC:20250709T191500
DTSTAMP:20260424T053348
CREATED:20250428T010449Z
LAST-MODIFIED:20250429T010018Z
UID:46396-1752084900-1752088500@synergydanceproject.com
SUMMARY:Ballet with Kate
DESCRIPTION:Learn the specifics of Classical/Cecchetti Ballet. Dancers will begin with barre\, work on skills in center\, move across the floor\, and end with a cool down. Dancers will be introduced to ballet vocabulary and the history of ballet.
URL:https://synergydanceproject.com/event/ballet-with-kate/
LOCATION:Synergy Dance Project\, 1060 MN-15\, Unit 68\, Hutchinson\, MN\, 55350\, United States
CATEGORIES:Ballet
END:VEVENT
END:VCALENDAR